BEGIN:VCALENDAR
VERSION:2.0
PRODID:-//Hidden Valley Zen Center - ECPv6.15.10//NONSGML v1.0//EN
CALSCALE:GREGORIAN
METHOD:PUBLISH
X-WR-CALNAME:Hidden Valley Zen Center
X-ORIGINAL-URL:https://staging.hvzc.org
X-WR-CALDESC:Events for Hidden Valley Zen Center
REFRESH-INTERVAL;VALUE=DURATION:PT1H
X-Robots-Tag:noindex
X-PUBLISHED-TTL:PT1H
BEGIN:VTIMEZONE
TZID:America/Los_Angeles
BEGIN:DAYLIGHT
TZOFFSETFROM:-0800
TZOFFSETTO:-0700
TZNAME:PDT
DTSTART:20190310T100000
END:DAYLIGHT
BEGIN:STANDARD
TZOFFSETFROM:-0700
TZOFFSETTO:-0800
TZNAME:PST
DTSTART:20191103T090000
END:STANDARD
BEGIN:DAYLIGHT
TZOFFSETFROM:-0800
TZOFFSETTO:-0700
TZNAME:PDT
DTSTART:20200308T100000
END:DAYLIGHT
BEGIN:STANDARD
TZOFFSETFROM:-0700
TZOFFSETTO:-0800
TZNAME:PST
DTSTART:20201101T090000
END:STANDARD
BEGIN:DAYLIGHT
TZOFFSETFROM:-0800
TZOFFSETTO:-0700
TZNAME:PDT
DTSTART:20210314T100000
END:DAYLIGHT
BEGIN:STANDARD
TZOFFSETFROM:-0700
TZOFFSETTO:-0800
TZNAME:PST
DTSTART:20211107T090000
END:STANDARD
END:VTIMEZONE
BEGIN:VTIMEZONE
TZID:UTC
BEGIN:STANDARD
TZOFFSETFROM:+0000
TZOFFSETTO:+0000
TZNAME:UTC
DTSTART:20180101T000000
END:STANDARD
END:VTIMEZONE
BEGIN:VEVENT
DTSTART;TZID=America/Los_Angeles:20200315T140000
DTEND;TZID=America/Los_Angeles:20200315T170000
DTSTAMP:20260423T154131
CREATED:20200213T185555Z
LAST-MODIFIED:20200312T212714Z
UID:3945-1584280800-1584291600@staging.hvzc.org
SUMMARY:Sixth Annual "Music in the Zendo'
DESCRIPTION:Concert Postponed (Updated March 12\, 2020)\nWe are sad to announce we will be postponing the Sixth Annual Music in the Zendo until further notice. Further details (including what do do about purchased tickets) can be found here: https://staging.hvzc.org/postponed-hvzc-6th-annual-concert/\n\n—\n\n\nPianist Peter Gach will perform works by Chopin\, including the G Minor Ballade\, Karol Szymanowski\, and Carlsbad native Benjamin Krause.\n.\nAlso featured will be a rarely heard work by the composer Roman Ryterband.\n.\nAll proceeds will go to support the Hidden Valley Zen Center.\n.\nThere will be an opportunity to meet the Artist reception following the concert.\n.\nZen Center grounds will be open for visitation during this event.\n.\nPurchase tickets below:\n.\n\nRegular Tickets: $20 \n\n\n\n\n. \nStudent Tickets: $15
URL:https://staging.hvzc.org/event/sixth-annual-music-in-the-zendo/
LOCATION:Hidden Valley Zen Center\, 2626 Sarver Ln\, San Marcos\, 92069\, United States
CATEGORIES:Family Fun
END:VEVENT
BEGIN:VEVENT
DTSTART;TZID=UTC:20190601T090000
DTEND;TZID=UTC:20190601T120000
DTSTAMP:20260423T154131
CREATED:20190527T220153Z
LAST-MODIFIED:20190527T220153Z
UID:3490-1559379600-1559390400@staging.hvzc.org
SUMMARY:Introduction to Meditation Half-day Workshop
DESCRIPTION:You’ll get a through introduction to the practice and our wonderful place\, get to try it out and ask all your questions and share with fellow travelers. \nPlease fill out and bring an application form\, which you find here: http://www.hvzc.org/pdf/HALFDAYWebRegForm08.pdf \nPlease enable JavaScript in your browser to complete this form.Name *FirstLastEmail *Comment or Message *WebsiteSubmit
URL:https://staging.hvzc.org/event/introduction-to-meditation-half-day-workshop/
LOCATION:Hidden Valley Zen Center\, 2626 Sarver Ln\, San Marcos\, CA\, 92069\, United States
END:VEVENT
BEGIN:VEVENT
DTSTART;TZID=UTC:20190529T080000
DTEND;TZID=UTC:20190529T170000
DTSTAMP:20260423T154131
CREATED:20190529T075617Z
LAST-MODIFIED:20190529T075617Z
UID:3541-1559116800-1559149200@staging.hvzc.org
SUMMARY:7-DAY SESSHIN with MITRA ROSHI: JULY 20-27.
DESCRIPTION:Please download and mail a filled in application form for this sesshin.
URL:https://staging.hvzc.org/event/7-day-sesshin-with-mitra-roshi-july-20-27/
END:VEVENT
BEGIN:VEVENT
DTSTART;TZID=UTC:20190529T080000
DTEND;TZID=UTC:20190529T170000
DTSTAMP:20260423T154131
CREATED:20190529T075428Z
LAST-MODIFIED:20190529T075428Z
UID:3539-1559116800-1559149200@staging.hvzc.org
SUMMARY:YOGA and ZEN RETREAT: JULY 13th\, SATURDAY
DESCRIPTION:9am-6pm.
URL:https://staging.hvzc.org/event/yoga-and-zen-retreat-july-13th-saturday/
END:VEVENT
BEGIN:VEVENT
DTSTART;TZID=UTC:20190529T080000
DTEND;TZID=UTC:20190529T170000
DTSTAMP:20260423T154131
CREATED:20190529T075020Z
LAST-MODIFIED:20190529T075306Z
UID:3535-1559116800-1559149200@staging.hvzc.org
SUMMARY:WEEKEND SESSHIN: JUNE 14th-16th
DESCRIPTION:Please arrive in time to move into your room. Sesshin begins Friday evening 6:50pm and ends Sunday evening around 9pm.
URL:https://staging.hvzc.org/event/weekend-sesshin-june-14th-16th/
END:VEVENT
END:VCALENDAR